BEGIN:VCALENDAR
VERSION:2.0
PRODID:icalendar-ruby
CALSCALE:GREGORIAN
METHOD:PUBLISH
BEGIN:VEVENT
DTSTAMP:20260422T094729Z
UID:8-354192@ecwagafct.org
DTSTART:20260419T080000Z
DTEND:20260419T100000Z
CLASS:PUBLIC
CREATED:20260417T033601
DESCRIPTION:Join us this coming Sunday reflect on the topic "The Way of the
  Cross" as we aim to Keep Our Lamps Burning.
LAST-MODIFIED:20260417T033601
LOCATION:During Worship Service
SUMMARY:Sunday Service
URL;VALUE=URI:https://www.ecwagafct.org/events/sunday-service/2026-04-19
ATTACH;FILENAME=The Way of the Cross Invite.jpg;FMTTYPE=image/jpeg:https://
 dq5pwpg1q8ru0.cloudfront.net/2026/04/17/02/36/01/2f0387b3-cd42-455c-8c5d-1
 fbf4a032c32/The%20Way%20of%20the%20Cross%20Invite.jpg
END:VEVENT
END:VCALENDAR
