BEGIN:VCALENDAR
VERSION:2.0
PRODID:icalendar-ruby
CALSCALE:GREGORIAN
METHOD:PUBLISH
BEGIN:VEVENT
DTSTAMP:20260421T163624Z
UID:5-354180@ecwagafct.org
DTSTART:20260927T080000Z
DTEND:20260927T090000Z
CLASS:PUBLIC
CREATED:20260318T223530
DESCRIPTION:Sunday Worship
LAST-MODIFIED:20260318T223530
LOCATION:
SUMMARY:Sunday Worship
URL;VALUE=URI:https://www.ecwagafct.org/events/sunday-worship/2026-09-27
END:VEVENT
END:VCALENDAR
